BEGIN:VCALENDAR
VERSION:2.0
PRODID:-//Jena Choctaw Pines Casino - ECPv6.15.18//NONSGML v1.0//EN
CALSCALE:GREGORIAN
METHOD:PUBLISH
X-WR-CALNAME:Jena Choctaw Pines Casino
X-ORIGINAL-URL:https://choctawpines.com
X-WR-CALDESC:Events for Jena Choctaw Pines Casino
REFRESH-INTERVAL;VALUE=DURATION:PT1H
X-Robots-Tag:noindex
X-PUBLISHED-TTL:PT1H
BEGIN:VTIMEZONE
TZID:America/Chicago
BEGIN:DAYLIGHT
TZOFFSETFROM:-0600
TZOFFSETTO:-0500
TZNAME:CDT
DTSTART:20250309T080000
END:DAYLIGHT
BEGIN:STANDARD
TZOFFSETFROM:-0500
TZOFFSETTO:-0600
TZNAME:CST
DTSTART:20251102T070000
END:STANDARD
BEGIN:DAYLIGHT
TZOFFSETFROM:-0600
TZOFFSETTO:-0500
TZNAME:CDT
DTSTART:20260308T080000
END:DAYLIGHT
BEGIN:STANDARD
TZOFFSETFROM:-0500
TZOFFSETTO:-0600
TZNAME:CST
DTSTART:20261101T070000
END:STANDARD
BEGIN:DAYLIGHT
TZOFFSETFROM:-0600
TZOFFSETTO:-0500
TZNAME:CDT
DTSTART:20270314T080000
END:DAYLIGHT
BEGIN:STANDARD
TZOFFSETFROM:-0500
TZOFFSETTO:-0600
TZNAME:CST
DTSTART:20271107T070000
END:STANDARD
END:VTIMEZONE
BEGIN:VEVENT
DTSTART;TZID=America/Chicago:20260506T110000
DTEND;TZID=America/Chicago:20260506T210000
DTSTAMP:20260423T125130
CREATED:20260422T152401Z
LAST-MODIFIED:20260422T152401Z
UID:10033528-1778065200-1778101200@choctawpines.com
SUMMARY:Luxe Luggage Giveaway
DESCRIPTION:Luxe Luggage Giveaway\nSelect dates in May | 11AM – 9PM\nEarn 650 Points each promotional day to receive a gift. \nQuilted Retreat Backpack \nWednesday\, May 6 or Saturday\, May 9 \nQuilted Duffle with Strap  \nWednesday\, May 13 or Saturday\, May 16 \n20” Diamond Spinner Luggage \nWednesday\, May 20 or Saturday\, May 23 \n16” Diamond Spinner Luggage  \nWednesday\, May 27 or Saturday\, May 30 \nOne gift per guest\, per week. While supplies last. Drawings and promotions subject to change. \nSee Arrow Head Players Club for complete rules and details.
URL:https://choctawpines.com/event/luxe-luggage-giveaway/2026-05-06/
ATTACH;FMTTYPE=image/jpeg:https://choctawpines.com/wp-content/uploads/2026/04/26-JENA-03552b-May-Web-Website-P2-3.jpg
END:VEVENT
BEGIN:VEVENT
DTSTART;TZID=America/Chicago:20260509T110000
DTEND;TZID=America/Chicago:20260509T210000
DTSTAMP:20260423T125130
CREATED:20260422T144952Z
LAST-MODIFIED:20260422T152306Z
UID:10033395-1778324400-1778360400@choctawpines.com
SUMMARY:Luxe Luggage Giveaway
DESCRIPTION:Luxe Luggage Giveaway\nSelect dates in May | 11AM – 9PM\nEarn 650 Points each promotional day to receive a gift. \nQuilted Retreat Backpack \nWednesday\, May 6 or Saturday\, May 9 \nQuilted Duffle with Strap  \nWednesday\, May 13 or Saturday\, May 16 \n20” Diamond Spinner Luggage \nWednesday\, May 20 or Saturday\, May 23 \n16” Diamond Spinner Luggage  \nWednesday\, May 27 or Saturday\, May 30 \nOne gift per guest\, per week. While supplies last. Drawings and promotions subject to change. \nSee Arrow Head Players Club for complete rules and details.
URL:https://choctawpines.com/event/luxe-luggage-giveaway-2/2026-05-09/
ATTACH;FMTTYPE=image/jpeg:https://choctawpines.com/wp-content/uploads/2026/04/26-JENA-03552b-May-Web-Website-P2-3.jpg
END:VEVENT
BEGIN:VEVENT
DTSTART;TZID=America/Chicago:20260513T110000
DTEND;TZID=America/Chicago:20260513T210000
DTSTAMP:20260423T125130
CREATED:20260422T152401Z
LAST-MODIFIED:20260422T152401Z
UID:10033529-1778670000-1778706000@choctawpines.com
SUMMARY:Luxe Luggage Giveaway
DESCRIPTION:Luxe Luggage Giveaway\nSelect dates in May | 11AM – 9PM\nEarn 650 Points each promotional day to receive a gift. \nQuilted Retreat Backpack \nWednesday\, May 6 or Saturday\, May 9 \nQuilted Duffle with Strap  \nWednesday\, May 13 or Saturday\, May 16 \n20” Diamond Spinner Luggage \nWednesday\, May 20 or Saturday\, May 23 \n16” Diamond Spinner Luggage  \nWednesday\, May 27 or Saturday\, May 30 \nOne gift per guest\, per week. While supplies last. Drawings and promotions subject to change. \nSee Arrow Head Players Club for complete rules and details.
URL:https://choctawpines.com/event/luxe-luggage-giveaway/2026-05-13/
ATTACH;FMTTYPE=image/jpeg:https://choctawpines.com/wp-content/uploads/2026/04/26-JENA-03552b-May-Web-Website-P2-3.jpg
END:VEVENT
BEGIN:VEVENT
DTSTART;TZID=America/Chicago:20260516T110000
DTEND;TZID=America/Chicago:20260516T210000
DTSTAMP:20260423T125130
CREATED:20260422T144952Z
LAST-MODIFIED:20260422T152306Z
UID:10033396-1778929200-1778965200@choctawpines.com
SUMMARY:Luxe Luggage Giveaway
DESCRIPTION:Luxe Luggage Giveaway\nSelect dates in May | 11AM – 9PM\nEarn 650 Points each promotional day to receive a gift. \nQuilted Retreat Backpack \nWednesday\, May 6 or Saturday\, May 9 \nQuilted Duffle with Strap  \nWednesday\, May 13 or Saturday\, May 16 \n20” Diamond Spinner Luggage \nWednesday\, May 20 or Saturday\, May 23 \n16” Diamond Spinner Luggage  \nWednesday\, May 27 or Saturday\, May 30 \nOne gift per guest\, per week. While supplies last. Drawings and promotions subject to change. \nSee Arrow Head Players Club for complete rules and details.
URL:https://choctawpines.com/event/luxe-luggage-giveaway-2/2026-05-16/
ATTACH;FMTTYPE=image/jpeg:https://choctawpines.com/wp-content/uploads/2026/04/26-JENA-03552b-May-Web-Website-P2-3.jpg
END:VEVENT
BEGIN:VEVENT
DTSTART;TZID=America/Chicago:20260520T110000
DTEND;TZID=America/Chicago:20260520T210000
DTSTAMP:20260423T125130
CREATED:20260422T152401Z
LAST-MODIFIED:20260422T152401Z
UID:10033530-1779274800-1779310800@choctawpines.com
SUMMARY:Luxe Luggage Giveaway
DESCRIPTION:Luxe Luggage Giveaway\nSelect dates in May | 11AM – 9PM\nEarn 650 Points each promotional day to receive a gift. \nQuilted Retreat Backpack \nWednesday\, May 6 or Saturday\, May 9 \nQuilted Duffle with Strap  \nWednesday\, May 13 or Saturday\, May 16 \n20” Diamond Spinner Luggage \nWednesday\, May 20 or Saturday\, May 23 \n16” Diamond Spinner Luggage  \nWednesday\, May 27 or Saturday\, May 30 \nOne gift per guest\, per week. While supplies last. Drawings and promotions subject to change. \nSee Arrow Head Players Club for complete rules and details.
URL:https://choctawpines.com/event/luxe-luggage-giveaway/2026-05-20/
ATTACH;FMTTYPE=image/jpeg:https://choctawpines.com/wp-content/uploads/2026/04/26-JENA-03552b-May-Web-Website-P2-3.jpg
END:VEVENT
BEGIN:VEVENT
DTSTART;TZID=America/Chicago:20260523T110000
DTEND;TZID=America/Chicago:20260523T210000
DTSTAMP:20260423T125130
CREATED:20260422T144952Z
LAST-MODIFIED:20260422T152306Z
UID:10033397-1779534000-1779570000@choctawpines.com
SUMMARY:Luxe Luggage Giveaway
DESCRIPTION:Luxe Luggage Giveaway\nSelect dates in May | 11AM – 9PM\nEarn 650 Points each promotional day to receive a gift. \nQuilted Retreat Backpack \nWednesday\, May 6 or Saturday\, May 9 \nQuilted Duffle with Strap  \nWednesday\, May 13 or Saturday\, May 16 \n20” Diamond Spinner Luggage \nWednesday\, May 20 or Saturday\, May 23 \n16” Diamond Spinner Luggage  \nWednesday\, May 27 or Saturday\, May 30 \nOne gift per guest\, per week. While supplies last. Drawings and promotions subject to change. \nSee Arrow Head Players Club for complete rules and details.
URL:https://choctawpines.com/event/luxe-luggage-giveaway-2/2026-05-23/
ATTACH;FMTTYPE=image/jpeg:https://choctawpines.com/wp-content/uploads/2026/04/26-JENA-03552b-May-Web-Website-P2-3.jpg
END:VEVENT
BEGIN:VEVENT
DTSTART;TZID=America/Chicago:20260527T110000
DTEND;TZID=America/Chicago:20260527T210000
DTSTAMP:20260423T125130
CREATED:20260422T152401Z
LAST-MODIFIED:20260422T152401Z
UID:10033531-1779879600-1779915600@choctawpines.com
SUMMARY:Luxe Luggage Giveaway
DESCRIPTION:Luxe Luggage Giveaway\nSelect dates in May | 11AM – 9PM\nEarn 650 Points each promotional day to receive a gift. \nQuilted Retreat Backpack \nWednesday\, May 6 or Saturday\, May 9 \nQuilted Duffle with Strap  \nWednesday\, May 13 or Saturday\, May 16 \n20” Diamond Spinner Luggage \nWednesday\, May 20 or Saturday\, May 23 \n16” Diamond Spinner Luggage  \nWednesday\, May 27 or Saturday\, May 30 \nOne gift per guest\, per week. While supplies last. Drawings and promotions subject to change. \nSee Arrow Head Players Club for complete rules and details.
URL:https://choctawpines.com/event/luxe-luggage-giveaway/2026-05-27/
ATTACH;FMTTYPE=image/jpeg:https://choctawpines.com/wp-content/uploads/2026/04/26-JENA-03552b-May-Web-Website-P2-3.jpg
END:VEVENT
BEGIN:VEVENT
DTSTART;TZID=America/Chicago:20260530T110000
DTEND;TZID=America/Chicago:20260530T210000
DTSTAMP:20260423T125130
CREATED:20260422T144952Z
LAST-MODIFIED:20260422T152306Z
UID:10033398-1780138800-1780174800@choctawpines.com
SUMMARY:Luxe Luggage Giveaway
DESCRIPTION:Luxe Luggage Giveaway\nSelect dates in May | 11AM – 9PM\nEarn 650 Points each promotional day to receive a gift. \nQuilted Retreat Backpack \nWednesday\, May 6 or Saturday\, May 9 \nQuilted Duffle with Strap  \nWednesday\, May 13 or Saturday\, May 16 \n20” Diamond Spinner Luggage \nWednesday\, May 20 or Saturday\, May 23 \n16” Diamond Spinner Luggage  \nWednesday\, May 27 or Saturday\, May 30 \nOne gift per guest\, per week. While supplies last. Drawings and promotions subject to change. \nSee Arrow Head Players Club for complete rules and details.
URL:https://choctawpines.com/event/luxe-luggage-giveaway-2/2026-05-30/
ATTACH;FMTTYPE=image/jpeg:https://choctawpines.com/wp-content/uploads/2026/04/26-JENA-03552b-May-Web-Website-P2-3.jpg
END:VEVENT
END:VCALENDAR