BEGIN:VCALENDAR
VERSION:2.0
PRODID:-//Jena Choctaw Pines Casino - ECPv6.15.18//NONSGML v1.0//EN
CALSCALE:GREGORIAN
METHOD:PUBLISH
X-ORIGINAL-URL:https://choctawpines.com
X-WR-CALDESC:Events for Jena Choctaw Pines Casino
REFRESH-INTERVAL;VALUE=DURATION:PT1H
X-Robots-Tag:noindex
X-PUBLISHED-TTL:PT1H
BEGIN:VTIMEZONE
TZID:America/Chicago
BEGIN:DAYLIGHT
TZOFFSETFROM:-0600
TZOFFSETTO:-0500
TZNAME:CDT
DTSTART:20250309T080000
END:DAYLIGHT
BEGIN:STANDARD
TZOFFSETFROM:-0500
TZOFFSETTO:-0600
TZNAME:CST
DTSTART:20251102T070000
END:STANDARD
BEGIN:DAYLIGHT
TZOFFSETFROM:-0600
TZOFFSETTO:-0500
TZNAME:CDT
DTSTART:20260308T080000
END:DAYLIGHT
BEGIN:STANDARD
TZOFFSETFROM:-0500
TZOFFSETTO:-0600
TZNAME:CST
DTSTART:20261101T070000
END:STANDARD
BEGIN:DAYLIGHT
TZOFFSETFROM:-0600
TZOFFSETTO:-0500
TZNAME:CDT
DTSTART:20270314T080000
END:DAYLIGHT
BEGIN:STANDARD
TZOFFSETFROM:-0500
TZOFFSETTO:-0600
TZNAME:CST
DTSTART:20271107T070000
END:STANDARD
END:VTIMEZONE
BEGIN:VEVENT
DTSTART;VALUE=DATE:20260527
DTEND;VALUE=DATE:20260529
DTSTAMP:20260425T081203
CREATED:20231002T134216Z
LAST-MODIFIED:20260305T155901Z
UID:10032246-1779850800-1779937199@choctawpines.com
SUMMARY:Ladies' Day
DESCRIPTION:EVERY WEDNESDAY \n$10 Jena Cash \n$2 Well Drinks \n___________\n1 Free Dessert \nw/ purchase of an entrée in Cutters Sports Bar. \nMust earn 100 Points to receive $10 Jena Cash. \nDrawings and promotions subject to change. See Arrow Head Players\nClub for complete rules and details. Begin earning points at 12:01AM and\nmust redeem at Arrow Head Players Club by 11:59PM. See Arrow Head\nPlayers Club for more details. \n 
URL:https://choctawpines.com/event/ladies-day/2026-05-27/
CATEGORIES:Casino
ATTACH;FMTTYPE=image/jpeg:https://choctawpines.com/wp-content/uploads/2023/10/26-JENA-03470b-Updated-SLM-Website-P1-1.jpg
END:VEVENT
BEGIN:VEVENT
DTSTART;VALUE=DATE:20260528
DTEND;VALUE=DATE:20260530
DTSTAMP:20260425T081203
CREATED:20210831T155537Z
LAST-MODIFIED:20260305T155730Z
UID:10014839-1779937200-1780023599@choctawpines.com
SUMMARY:Men's Day
DESCRIPTION:EVERY THURSDAY \n$10 Jena Cash \n$2 Domestic Bottled Beer \n___________\n1 Free Appetizer \nw/purchase of an entrée in Cutters Sports Bar. \nMust earn 100 Points to receive $10 Jena Cash. \nDrawings and promotions subject to change. Begin earning points at\n12:01AM and must redeem at Arrow Head Players Club by 11:59PM.\nSee Arrow Head Players Club for complete rules and details. \n  \n 
URL:https://choctawpines.com/event/mens-day-2/2026-05-28/
CATEGORIES:Casino
ATTACH;FMTTYPE=image/jpeg:https://choctawpines.com/wp-content/uploads/2021/08/26-JENA-03470b-Updated-SLM-Website-P1-2.jpg
END:VEVENT
BEGIN:VEVENT
DTSTART;VALUE=DATE:20260601
DTEND;VALUE=DATE:20260603
DTSTAMP:20260425T081203
CREATED:20241226T200230Z
LAST-MODIFIED:20260304T225032Z
UID:10031637-1780282800-1780369199@choctawpines.com
SUMMARY:Senior Days
DESCRIPTION:EVERY MONDAY\nHalf-Price Buffet \nEVERY TUESDAY\n$10 Jena Cash \nEarn 55 Points each promotional day. \nBegin earning points at 12:01AM and must redeem at Arrow Head Players Club by\n11:59PM. See Arrow Head Players Club for more details. Half-price buffet voucher can\nbe redeemed at the kiosk and must be presented to the cashier at JD’s Harvest Buffet\nduring open hours. Offers valid only on the date earned. Limited to two offers per guest.
URL:https://choctawpines.com/event/senior-day-4/2026-06-01/
CATEGORIES:Casino
ATTACH;FMTTYPE=image/jpeg:https://choctawpines.com/wp-content/uploads/2024/12/26-JENA-03470b-Updated-SLM-Website-P1-3.jpg
END:VEVENT
BEGIN:VEVENT
DTSTART;VALUE=DATE:20260602
DTEND;VALUE=DATE:20260604
DTSTAMP:20260425T081203
CREATED:20241226T200557Z
LAST-MODIFIED:20260304T225123Z
UID:10031907-1780369200-1780455599@choctawpines.com
SUMMARY:Senior Days
DESCRIPTION:EVERY MONDAY\nHalf-Price Buffet \nEVERY TUESDAY\n$10 Jena Cash \nEarn 55 Points each promotional day. \nBegin earning points at 12:01AM and must redeem at Arrow Head Players Club by\n11:59PM. See Arrow Head Players Club for more details. Half-price buffet voucher can\nbe redeemed at the kiosk and must be presented to the cashier at JD’s Harvest Buffet\nduring open hours. Offers valid only on the date earned. Limited to two offers per guest.
URL:https://choctawpines.com/event/senior-day-5/2026-06-02/
ATTACH;FMTTYPE=image/jpeg:https://choctawpines.com/wp-content/uploads/2024/12/26-JENA-03470b-Updated-SLM-Website-P1-3.jpg
END:VEVENT
END:VCALENDAR