BEGIN:VCALENDAR
VERSION:2.0
PRODID:-//Jena Choctaw Pines Casino - ECPv6.15.18//NONSGML v1.0//EN
CALSCALE:GREGORIAN
METHOD:PUBLISH
X-WR-CALNAME:Jena Choctaw Pines Casino
X-ORIGINAL-URL:https://choctawpines.com
X-WR-CALDESC:Events for Jena Choctaw Pines Casino
REFRESH-INTERVAL;VALUE=DURATION:PT1H
X-Robots-Tag:noindex
X-PUBLISHED-TTL:PT1H
BEGIN:VTIMEZONE
TZID:America/Chicago
BEGIN:DAYLIGHT
TZOFFSETFROM:-0600
TZOFFSETTO:-0500
TZNAME:CDT
DTSTART:20250309T080000
END:DAYLIGHT
BEGIN:STANDARD
TZOFFSETFROM:-0500
TZOFFSETTO:-0600
TZNAME:CST
DTSTART:20251102T070000
END:STANDARD
BEGIN:DAYLIGHT
TZOFFSETFROM:-0600
TZOFFSETTO:-0500
TZNAME:CDT
DTSTART:20260308T080000
END:DAYLIGHT
BEGIN:STANDARD
TZOFFSETFROM:-0500
TZOFFSETTO:-0600
TZNAME:CST
DTSTART:20261101T070000
END:STANDARD
BEGIN:DAYLIGHT
TZOFFSETFROM:-0600
TZOFFSETTO:-0500
TZNAME:CDT
DTSTART:20270314T080000
END:DAYLIGHT
BEGIN:STANDARD
TZOFFSETFROM:-0500
TZOFFSETTO:-0600
TZNAME:CST
DTSTART:20271107T070000
END:STANDARD
END:VTIMEZONE
BEGIN:VEVENT
DTSTART;VALUE=DATE:20260504
DTEND;VALUE=DATE:20260506
DTSTAMP:20260423T190345
CREATED:20241226T200230Z
LAST-MODIFIED:20260304T225032Z
UID:10031633-1777863600-1777949999@choctawpines.com
SUMMARY:Senior Days
DESCRIPTION:EVERY MONDAY\nHalf-Price Buffet \nEVERY TUESDAY\n$10 Jena Cash \nEarn 55 Points each promotional day. \nBegin earning points at 12:01AM and must redeem at Arrow Head Players Club by\n11:59PM. See Arrow Head Players Club for more details. Half-price buffet voucher can\nbe redeemed at the kiosk and must be presented to the cashier at JD’s Harvest Buffet\nduring open hours. Offers valid only on the date earned. Limited to two offers per guest.
URL:https://choctawpines.com/event/senior-day-4/2026-05-04/
CATEGORIES:Casino
ATTACH;FMTTYPE=image/jpeg:https://choctawpines.com/wp-content/uploads/2024/12/26-JENA-03470b-Updated-SLM-Website-P1-3.jpg
END:VEVENT
BEGIN:VEVENT
DTSTART;VALUE=DATE:20260505
DTEND;VALUE=DATE:20260507
DTSTAMP:20260423T190345
CREATED:20241226T200557Z
LAST-MODIFIED:20260304T225123Z
UID:10031903-1777950000-1778036399@choctawpines.com
SUMMARY:Senior Days
DESCRIPTION:EVERY MONDAY\nHalf-Price Buffet \nEVERY TUESDAY\n$10 Jena Cash \nEarn 55 Points each promotional day. \nBegin earning points at 12:01AM and must redeem at Arrow Head Players Club by\n11:59PM. See Arrow Head Players Club for more details. Half-price buffet voucher can\nbe redeemed at the kiosk and must be presented to the cashier at JD’s Harvest Buffet\nduring open hours. Offers valid only on the date earned. Limited to two offers per guest.
URL:https://choctawpines.com/event/senior-day-5/2026-05-05/
ATTACH;FMTTYPE=image/jpeg:https://choctawpines.com/wp-content/uploads/2024/12/26-JENA-03470b-Updated-SLM-Website-P1-3.jpg
END:VEVENT
BEGIN:VEVENT
DTSTART;TZID=America/Chicago:20260506T110000
DTEND;TZID=America/Chicago:20260506T210000
DTSTAMP:20260423T190345
CREATED:20260422T152401Z
LAST-MODIFIED:20260422T152401Z
UID:10033528-1778065200-1778101200@choctawpines.com
SUMMARY:Luxe Luggage Giveaway
DESCRIPTION:Luxe Luggage Giveaway\nSelect dates in May | 11AM – 9PM\nEarn 650 Points each promotional day to receive a gift. \nQuilted Retreat Backpack \nWednesday\, May 6 or Saturday\, May 9 \nQuilted Duffle with Strap  \nWednesday\, May 13 or Saturday\, May 16 \n20” Diamond Spinner Luggage \nWednesday\, May 20 or Saturday\, May 23 \n16” Diamond Spinner Luggage  \nWednesday\, May 27 or Saturday\, May 30 \nOne gift per guest\, per week. While supplies last. Drawings and promotions subject to change. \nSee Arrow Head Players Club for complete rules and details.
URL:https://choctawpines.com/event/luxe-luggage-giveaway/2026-05-06/
ATTACH;FMTTYPE=image/jpeg:https://choctawpines.com/wp-content/uploads/2026/04/26-JENA-03552b-May-Web-Website-P2-3.jpg
END:VEVENT
BEGIN:VEVENT
DTSTART;VALUE=DATE:20260507
DTEND;VALUE=DATE:20260509
DTSTAMP:20260423T190345
CREATED:20210831T155537Z
LAST-MODIFIED:20260305T155730Z
UID:10014836-1778122800-1778209199@choctawpines.com
SUMMARY:Men's Day
DESCRIPTION:EVERY THURSDAY \n$10 Jena Cash \n$2 Domestic Bottled Beer \n___________\n1 Free Appetizer \nw/purchase of an entrée in Cutters Sports Bar. \nMust earn 100 Points to receive $10 Jena Cash. \nDrawings and promotions subject to change. Begin earning points at\n12:01AM and must redeem at Arrow Head Players Club by 11:59PM.\nSee Arrow Head Players Club for complete rules and details. \n  \n 
URL:https://choctawpines.com/event/mens-day-2/2026-05-07/
CATEGORIES:Casino
ATTACH;FMTTYPE=image/jpeg:https://choctawpines.com/wp-content/uploads/2021/08/26-JENA-03470b-Updated-SLM-Website-P1-2.jpg
END:VEVENT
BEGIN:VEVENT
DTSTART;TZID=America/Chicago:20260508T120000
DTEND;TZID=America/Chicago:20260508T220000
DTSTAMP:20260423T190345
CREATED:20260422T143650Z
LAST-MODIFIED:20260422T143650Z
UID:10033221-1778241600-1778277600@choctawpines.com
SUMMARY:Gold Card Kiosk Game
DESCRIPTION:WIN UP TO $500 JENA CASH!\nFriday\, May 8\n12PM – 10PM\nGuest can play one time during the promotional period. Drawings and promotions subject to change. See Arrow Head Players Club for complete rules and details. \n 
URL:https://choctawpines.com/event/gold-card-kiosk-game/
CATEGORIES:Casino,Featured Casino,Homepage Featured
ATTACH;FMTTYPE=image/jpeg:https://choctawpines.com/wp-content/uploads/2025/08/25-JENA-03219b-September-Web-Website-P1-4.jpg
END:VEVENT
BEGIN:VEVENT
DTSTART;TZID=America/Chicago:20260510T110000
DTEND;TZID=America/Chicago:20260510T150000
DTSTAMP:20260423T190345
CREATED:20260422T144117Z
LAST-MODIFIED:20260422T144117Z
UID:10033223-1778410800-1778425200@choctawpines.com
SUMMARY:JD's Harvest Mother's Day Champagne Brunch
DESCRIPTION:Sunday\, May 10\n11AM – 3PM \n$32
URL:https://choctawpines.com/event/jds-harvest-champagne-brunch/
CATEGORIES:Casino,Featured Casino,Homepage Featured
ATTACH;FMTTYPE=image/jpeg:https://choctawpines.com/wp-content/uploads/2026/04/26-JENA-03552b-May-Web-Website-P2-2.jpg
END:VEVENT
BEGIN:VEVENT
DTSTART;TZID=America/Chicago:20260510T110000
DTEND;TZID=America/Chicago:20260510T150000
DTSTAMP:20260423T190345
CREATED:20260422T144251Z
LAST-MODIFIED:20260422T144251Z
UID:10033224-1778410800-1778425200@choctawpines.com
SUMMARY:Cutters Mother's Day Special
DESCRIPTION:Sunday\, May 10\n11AM – 3PM \n$30
URL:https://choctawpines.com/event/cutters-mothers-day-special/
CATEGORIES:Casino,Featured Casino,Homepage Featured
ATTACH;FMTTYPE=image/jpeg:https://choctawpines.com/wp-content/uploads/2026/04/26-JENA-03552b-May-Web-Website-P2-4.jpg
END:VEVENT
BEGIN:VEVENT
DTSTART;TZID=America/Chicago:20260522T120000
DTEND;TZID=America/Chicago:20260522T200000
DTSTAMP:20260423T190345
CREATED:20260422T143948Z
LAST-MODIFIED:20260422T143948Z
UID:10033222-1779451200-1779480000@choctawpines.com
SUMMARY:Stars\, Stripes\, & Summer Swipes Kiosk Game
DESCRIPTION:WIN UP TO $500 JENA CASH!\nFriday\, May 22\n12PM – 8PM\nEarn 300 Points during the promotional period to swipe at the kiosk and play.\nGuests can play one time during the promotional period. \nWhile supplies last. Drawings and promotions subject to change. See Arrow Head Players Club for complete rules and details.
URL:https://choctawpines.com/event/summer-swipes-kiosk-game/
CATEGORIES:Casino,Featured Casino,Homepage Featured
ATTACH;FMTTYPE=image/jpeg:https://choctawpines.com/wp-content/uploads/2026/04/26-JENA-03552b-May-Web-Website-P2-1.jpg
END:VEVENT
END:VCALENDAR