BEGIN:VCALENDAR
VERSION:2.0
PRODID:-//Jena Choctaw Pines Casino - ECPv6.15.18//NONSGML v1.0//EN
CALSCALE:GREGORIAN
METHOD:PUBLISH
X-WR-CALNAME:Jena Choctaw Pines Casino
X-ORIGINAL-URL:https://choctawpines.com
X-WR-CALDESC:Events for Jena Choctaw Pines Casino
REFRESH-INTERVAL;VALUE=DURATION:PT1H
X-Robots-Tag:noindex
X-PUBLISHED-TTL:PT1H
BEGIN:VTIMEZONE
TZID:America/Chicago
BEGIN:DAYLIGHT
TZOFFSETFROM:-0600
TZOFFSETTO:-0500
TZNAME:CDT
DTSTART:20250309T080000
END:DAYLIGHT
BEGIN:STANDARD
TZOFFSETFROM:-0500
TZOFFSETTO:-0600
TZNAME:CST
DTSTART:20251102T070000
END:STANDARD
BEGIN:DAYLIGHT
TZOFFSETFROM:-0600
TZOFFSETTO:-0500
TZNAME:CDT
DTSTART:20260308T080000
END:DAYLIGHT
BEGIN:STANDARD
TZOFFSETFROM:-0500
TZOFFSETTO:-0600
TZNAME:CST
DTSTART:20261101T070000
END:STANDARD
BEGIN:DAYLIGHT
TZOFFSETFROM:-0600
TZOFFSETTO:-0500
TZNAME:CDT
DTSTART:20270314T080000
END:DAYLIGHT
BEGIN:STANDARD
TZOFFSETFROM:-0500
TZOFFSETTO:-0600
TZNAME:CST
DTSTART:20271107T070000
END:STANDARD
END:VTIMEZONE
BEGIN:VEVENT
DTSTART;VALUE=DATE:20260423
DTEND;VALUE=DATE:20260425
DTSTAMP:20260423T154512
CREATED:20210831T155537Z
LAST-MODIFIED:20260305T155730Z
UID:10014834-1776913200-1776999599@choctawpines.com
SUMMARY:Men's Day
DESCRIPTION:EVERY THURSDAY \n$10 Jena Cash \n$2 Domestic Bottled Beer \n___________\n1 Free Appetizer \nw/purchase of an entrée in Cutters Sports Bar. \nMust earn 100 Points to receive $10 Jena Cash. \nDrawings and promotions subject to change. Begin earning points at\n12:01AM and must redeem at Arrow Head Players Club by 11:59PM.\nSee Arrow Head Players Club for complete rules and details. \n  \n 
URL:https://choctawpines.com/event/mens-day-2/2026-04-23/
CATEGORIES:Casino
ATTACH;FMTTYPE=image/jpeg:https://choctawpines.com/wp-content/uploads/2021/08/26-JENA-03470b-Updated-SLM-Website-P1-2.jpg
END:VEVENT
END:VCALENDAR